BEGIN:VCALENDAR
VERSION:2.0
PRODID:-//eventon.com NONSGML v1.0//EN
BEGIN:VEVENT
UID:69ed07f119ae4
DTSTAMP:20260425T202905
DTSTART:20250128T150000Z
DTEND:20250128T160000Z
TZID:CET
LOCATION:
SUMMARY:28.1.2025. Izviđač daruje krv - daruj je i Ti
DESCRIPTION: Dobrovoljni darivatelji krvi OS Javorovci pozivaju sve koji mogu\,  žele i hoće da nam se pridruže u još jednoj akciji darivanja krvi. U utorak\,  28.1.2025. u 16h  Klinički bolnički centar Osijek Vidimo se !
URL:https://www.ik-javor.hr/aktivnost/28-1-2025-izvidac-daruje-krv-daruj-je-i-ti/
END:VEVENT
END:VCALENDAR