BEGIN:VCALENDAR
VERSION:2.0
PRODID:-//eventon.com NONSGML v1.0//EN
BEGIN:VEVENT
UID:69e6d499d9749
DTSTAMP:20260421T033625
DTSTART:20210606T050000Z
DTEND:20210606T220000Z
TZID:CET
LOCATION:
SUMMARY:Upoznajmo EU Svijet \,  Izlet u Zagreb\,  6.6.2021.
DESCRIPTION: POZIV na izlet u Zagreb\,  6.6.2021. Ideš li u 5-8 razred osnovne škole ili si srednjoškolac ili pripadaš grupi mladih do 30 godina\,  živiš u okolici Osijeka u mjestu gdje nema organizirane izviđačke udruge. Ovaj poziv je baš za tebe 🙂 Pridruži se izviđačkima iz Izviđačkog kluba Javor Osijek (družine[..]
URL:https://www.ik-javor.hr/aktivnost/upoznajmo-eu-svijet-izlet-u-zagreb-6-6-2021/
END:VEVENT
END:VCALENDAR