BEGIN:VCALENDAR
VERSION:2.0
PRODID:-//eventon.com NONSGML v1.0//EN
BEGIN:VEVENT
UID:69e8364c68c20
DTSTAMP:20260422T044532
DTSTART:20210215T180000Z
DTEND:20210215T200000Z
TZID:CET
LOCATION:
SUMMARY:HAPPYCENTAR – Igračke nove za mirnije snove
DESCRIPTION: Izviđački klub Javor Osijek uključuje se u Nacionalnu kampanju Saveza izviđača Hrvatske „HAPPYCENTAR – Igračke nove za mirnije snove“ namijenjenu djeci iz potresom pogođenih područja. Cilj kampanje je donacijama građana i tvrtki prikupiti isključivo nove: igračke\,  slikovnice\,  dječje knjige\,  sportsku opremu i rekvizite\,  crtaći pribor i drugi didaktički materijal za[..]
URL:https://www.ik-javor.hr/aktivnost/happycentar-igracke-nove-za-mirnije-snove/var/ri-1.l-L1
END:VEVENT
END:VCALENDAR